BEGIN:VCALENDAR
VERSION:2.0
PRODID:-//jEvents 2.0 for Joomla//EN
CALSCALE:GREGORIAN
METHOD:PUBLISH
BEGIN:VTIMEZONE
TZID:Europe/Stockholm
BEGIN:STANDARD
DTSTART:20190317T180000
RDATE:20190331T030000
TZOFFSETFROM:+0200
TZOFFSETTO:+0100
TZNAME:Europe/Stockholm CET
END:STANDARD
BEGIN:STANDARD
DTSTART:20191027T020000
RDATE:20200329T030000
TZOFFSETFROM:+0200
TZOFFSETTO:+0100
TZNAME:Europe/Stockholm CET
END:STANDARD
BEGIN:STANDARD
DTSTART:20201025T020000
RDATE:20210328T030000
TZOFFSETFROM:+0200
TZOFFSETTO:+0100
TZNAME:Europe/Stockholm CET
END:STANDARD
BEGIN:STANDARD
DTSTART:20211031T020000
RDATE:20220327T030000
TZOFFSETFROM:+0200
TZOFFSETTO:+0100
TZNAME:Europe/Stockholm CET
END:STANDARD
BEGIN:STANDARD
DTSTART:20221030T020000
RDATE:20230326T030000
TZOFFSETFROM:+0200
TZOFFSETTO:+0100
TZNAME:Europe/Stockholm CET
END:STANDARD
BEGIN:STANDARD
DTSTART:20231029T020000
RDATE:20240331T030000
TZOFFSETFROM:+0200
TZOFFSETTO:+0100
TZNAME:Europe/Stockholm CET
END:STANDARD
BEGIN:STANDARD
DTSTART:20241027T020000
RDATE:20250330T030000
TZOFFSETFROM:+0200
TZOFFSETTO:+0100
TZNAME:Europe/Stockholm CET
END:STANDARD
BEGIN:STANDARD
DTSTART:20251026T020000
RDATE:20260329T030000
TZOFFSETFROM:+0200
TZOFFSETTO:+0100
TZNAME:Europe/Stockholm CET
END:STANDARD
BEGIN:STANDARD
DTSTART:20261025T020000
RDATE:20270328T030000
TZOFFSETFROM:+0200
TZOFFSETTO:+0100
TZNAME:Europe/Stockholm CET
END:STANDARD
BEGIN:STANDARD
DTSTART:20271031T020000
RDATE:20280326T030000
TZOFFSETFROM:+0200
TZOFFSETTO:+0100
TZNAME:Europe/Stockholm CET
END:STANDARD
BEGIN:STANDARD
DTSTART:20281029T020000
RDATE:20290325T030000
TZOFFSETFROM:+0200
TZOFFSETTO:+0100
TZNAME:Europe/Stockholm CET
END:STANDARD
BEGIN:STANDARD
DTSTART:20291028T020000
RDATE:20300331T030000
TZOFFSETFROM:+0200
TZOFFSETTO:+0100
TZNAME:Europe/Stockholm CET
END:STANDARD
BEGIN:STANDARD
DTSTART:20301027T020000
RDATE:20310330T030000
TZOFFSETFROM:+0200
TZOFFSETTO:+0100
TZNAME:Europe/Stockholm CET
END:STANDARD
BEGIN:DAYLIGHT
DTSTART:20190331T030000
RDATE:20191027T020000
TZOFFSETFROM:+0100
TZOFFSETTO:+0200
TZNAME:Europe/Stockholm CEST
END:DAYLIGHT
BEGIN:DAYLIGHT
DTSTART:20200329T030000
RDATE:20201025T020000
TZOFFSETFROM:+0100
TZOFFSETTO:+0200
TZNAME:Europe/Stockholm CEST
END:DAYLIGHT
BEGIN:DAYLIGHT
DTSTART:20210328T030000
RDATE:20211031T020000
TZOFFSETFROM:+0100
TZOFFSETTO:+0200
TZNAME:Europe/Stockholm CEST
END:DAYLIGHT
BEGIN:DAYLIGHT
DTSTART:20220327T030000
RDATE:20221030T020000
TZOFFSETFROM:+0100
TZOFFSETTO:+0200
TZNAME:Europe/Stockholm CEST
END:DAYLIGHT
BEGIN:DAYLIGHT
DTSTART:20230326T030000
RDATE:20231029T020000
TZOFFSETFROM:+0100
TZOFFSETTO:+0200
TZNAME:Europe/Stockholm CEST
END:DAYLIGHT
BEGIN:DAYLIGHT
DTSTART:20240331T030000
RDATE:20241027T020000
TZOFFSETFROM:+0100
TZOFFSETTO:+0200
TZNAME:Europe/Stockholm CEST
END:DAYLIGHT
BEGIN:DAYLIGHT
DTSTART:20250330T030000
RDATE:20251026T020000
TZOFFSETFROM:+0100
TZOFFSETTO:+0200
TZNAME:Europe/Stockholm CEST
END:DAYLIGHT
BEGIN:DAYLIGHT
DTSTART:20260329T030000
RDATE:20261025T020000
TZOFFSETFROM:+0100
TZOFFSETTO:+0200
TZNAME:Europe/Stockholm CEST
END:DAYLIGHT
BEGIN:DAYLIGHT
DTSTART:20270328T030000
RDATE:20271031T020000
TZOFFSETFROM:+0100
TZOFFSETTO:+0200
TZNAME:Europe/Stockholm CEST
END:DAYLIGHT
BEGIN:DAYLIGHT
DTSTART:20280326T030000
RDATE:20281029T020000
TZOFFSETFROM:+0100
TZOFFSETTO:+0200
TZNAME:Europe/Stockholm CEST
END:DAYLIGHT
BEGIN:DAYLIGHT
DTSTART:20290325T030000
RDATE:20291028T020000
TZOFFSETFROM:+0100
TZOFFSETTO:+0200
TZNAME:Europe/Stockholm CEST
END:DAYLIGHT
BEGIN:DAYLIGHT
DTSTART:20300331T030000
RDATE:20301027T020000
TZOFFSETFROM:+0100
TZOFFSETTO:+0200
TZNAME:Europe/Stockholm CEST
END:DAYLIGHT
END:VTIMEZONE
BEGIN:VEVENT
UID:42971d24794e23b2cbadf12f05e4134c
CATEGORIES:VIF
CREATED:20200303T213328
SUMMARY:VIF årsmöte och föreläsning
GEO:11.97194576;57.70789337
LOCATION:Hotell Eggers - Drottningtorget 2-4\, Göteborg\, \, 411 03\, Sverige
URL;VALUE=URI:https://mail.ifboat.com/kalender/icalrepeat.detail/2020/03/17/104/-/vif-ars
 moete-och-foerelaesning-geo-11-97194576-57-70789337?tmpl=component
DESCRIPTION:Välkommen till seglarträff och årsmöte VIF!\nTisdagen den 17 mars träffas v
 i på Eggers Hotell för att umgås, prata IF-båt ta en öl, äta något, lyssna 
 på Anders Ewert's smultronställen på västkusten och har årsmöte.\nPlanen är
  att vi ses i restaurangen på Eggers och tar något att äta eller bara en öl
  någon gång kring klockan sex. 19:30 går vi till ett konferensrum och har V
 IF:s årsmöte. Vi försöker hålla det kort, 30 minuter, och fokusera på vad v
 i skall göra i sommar. Efter årsmötet berättar Anders Ewert om sina bästa s
 multronställen på Västkusten. Det kommer att vara bilder på hamnar, tips på
  var man kan ligga bredsides och finaste baden.\nVälkomna!\nStyrelsen i Väs
 tkustens IF-Båtklubb.\n This event was imported from: https://mail.ifboat.c
 om/kalender/icalrepeat.detail/2020/03/17/104/-/vif-arsmoete-och-foerelaesni
 ng-geo-11-97194576-57-70789337?tmpl=component
X-ALT-DESC;FMTTYPE=text/html:<p><strong>Välkommen till seglarträff och årsmöte VIF!</strong></p><p>Tisda
 gen den 17 mars träffas vi på Eggers Hotell för att umgås, prata IF-båt ta 
 en öl, äta något, lyssna på Anders Ewert's smultronställen på västkusten oc
 h har årsmöte.</p><p>Planen är att vi ses i restaurangen på Eggers och tar 
 något att äta eller bara en öl någon gång kring klockan sex. 19:30 går vi t
 ill ett konferensrum och har VIF:s årsmöte. Vi försöker hålla det kort, 30 
 minuter, och fokusera på vad vi skall göra i sommar. Efter årsmötet berätta
 r Anders Ewert om sina bästa smultronställen på Västkusten. Det kommer att 
 vara bilder på hamnar, tips på var man kan ligga bredsides och finaste bade
 n.</p><p>Välkomna!</p><p>Styrelsen i Västkustens IF-Båtklubb.</p> <a href="
 https://mail.ifboat.com/kalender/icalrepeat.detail/2020/03/17/104/-/vif-ars
 moete-och-foerelaesning-geo-11-97194576-57-70789337?tmpl=component">This ev
 ent was imported from: https://mail.ifboat.com/kalender/icalrepeat.detail/2
 020/03/17/104/-/vif-arsmoete-och-foerelaesning-geo-11-97194576-57-70789337?
 tmpl=component</a>CONTACT:Joop Somhorst, 0723-718186
DTSTAMP:20260423T090720
DTSTART;TZID=Europe/Stockholm:20200317T180000
DTEND;TZID=Europe/Stockholm:20200317T210000
SEQUENCE:0
TRANSP:OPAQUE
END:VEVENT
END:VCALENDAR