BEGIN:VCALENDAR
VERSION:2.0
PRODID:-//jEvents 2.0 for Joomla//EN
CALSCALE:GREGORIAN
METHOD:PUBLISH
BEGIN:VTIMEZONE
TZID:Europe/Stockholm
BEGIN:STANDARD
DTSTART:20251026T020000
RDATE:20260329T030000
TZOFFSETFROM:+0200
TZOFFSETTO:+0100
TZNAME:Europe/Stockholm CET
END:STANDARD
BEGIN:STANDARD
DTSTART:20261025T020000
RDATE:20270328T030000
TZOFFSETFROM:+0200
TZOFFSETTO:+0100
TZNAME:Europe/Stockholm CET
END:STANDARD
BEGIN:STANDARD
DTSTART:20271031T020000
RDATE:20280326T030000
TZOFFSETFROM:+0200
TZOFFSETTO:+0100
TZNAME:Europe/Stockholm CET
END:STANDARD
BEGIN:STANDARD
DTSTART:20281029T020000
RDATE:20290325T030000
TZOFFSETFROM:+0200
TZOFFSETTO:+0100
TZNAME:Europe/Stockholm CET
END:STANDARD
BEGIN:STANDARD
DTSTART:20291028T020000
RDATE:20300331T030000
TZOFFSETFROM:+0200
TZOFFSETTO:+0100
TZNAME:Europe/Stockholm CET
END:STANDARD
BEGIN:STANDARD
DTSTART:20301027T020000
RDATE:20310330T030000
TZOFFSETFROM:+0200
TZOFFSETTO:+0100
TZNAME:Europe/Stockholm CET
END:STANDARD
BEGIN:DAYLIGHT
DTSTART:20250624T000000
RDATE:20251026T020000
TZOFFSETFROM:+0100
TZOFFSETTO:+0200
TZNAME:Europe/Stockholm CEST
END:DAYLIGHT
BEGIN:DAYLIGHT
DTSTART:20260329T030000
RDATE:20261025T020000
TZOFFSETFROM:+0100
TZOFFSETTO:+0200
TZNAME:Europe/Stockholm CEST
END:DAYLIGHT
BEGIN:DAYLIGHT
DTSTART:20270328T030000
RDATE:20271031T020000
TZOFFSETFROM:+0100
TZOFFSETTO:+0200
TZNAME:Europe/Stockholm CEST
END:DAYLIGHT
BEGIN:DAYLIGHT
DTSTART:20280326T030000
RDATE:20281029T020000
TZOFFSETFROM:+0100
TZOFFSETTO:+0200
TZNAME:Europe/Stockholm CEST
END:DAYLIGHT
BEGIN:DAYLIGHT
DTSTART:20290325T030000
RDATE:20291028T020000
TZOFFSETFROM:+0100
TZOFFSETTO:+0200
TZNAME:Europe/Stockholm CEST
END:DAYLIGHT
BEGIN:DAYLIGHT
DTSTART:20300331T030000
RDATE:20301027T020000
TZOFFSETFROM:+0100
TZOFFSETTO:+0200
TZNAME:Europe/Stockholm CEST
END:DAYLIGHT
END:VTIMEZONE
BEGIN:VEVENT
UID:882fb399bb4988f4b23182249be7308a
CATEGORIES:IF-båtförbundet
CREATED:20251231T105008
SUMMARY:IF-SM 2026
GEO:12.27207565;57.05639267
LOCATION:Träslövsläges Båtsällskap - Fiskehamnsvägen 4\, TRÄSLÖVSLÄGE\, \, 432 75\, 
 Sverige
URL;VALUE=URI:https://mail.ifboat.com/kalender/icalrepeat.detail/2026/06/25/322/-/if-sm-2
 026-geo-12-27207565-57-05639267?tmpl=component
DESCRIPTION:<p>Mästerskapet för år 2026 kommer att hållas vid Träslövsläge 25-28 juni.<
 /p><p>Tune-up på torsdagen, tävling fredag till och med söndag 26-28 juni. 
 Regattamiddag planeras till lördagen.</p><p>Träslövsläges Båtsällskap ser f
 ram mot att se många härliga IF-båtar på startlinjen och hoppas så klart på
  bra väder med rättvisa vindar och lite härliga vågor. I det stora klubbhus
 et finns det gott om plats för socialt umgänge och mycket prat om segling. 
 Vi ska göra allt för att ni får ett par fantastiska dagar som ni kan bära m
 ed er resten av säsongen. Det finns gott om plats i hamnen så vill man komm
 a helgen innan och fira midsommar i Läjet eller Varberg&nbsp;så går det fin
 t.</p><p>Inbjudan och anmälda deltagare finns på <a href="https://www.saila
 rena.com/sv/se/club/taebs/svenskt-masterskap-for-if-bat-2026/" target="_sel
 f">&gt;&gt;SailArena</a></p> <a href="https://mail.ifboat.com/kalender/ical
 repeat.detail/2026/06/25/322/-/if-sm-2026-geo-12-27207565-57-05639267?tmpl=
 component">This event was imported from: https://mail.ifboat.com/kalender/i
 calrepeat.detail/2026/06/25/322/-/if-sm-2026-geo-12-27207565-57-05639267?tm
 pl=component</a>CONTACT:Den här e-postadressen skyddas mot spambots. Du måste tillåta JavaScript för att se den.
X-EXTRAINFO:Saknar du gast, rorsman eller båt och vill segla SM eller hyra ut din båt? 
 Kontakta oss så löser vi det tillsammans, skriv på vårt forum: http://ifboa
 t.se/forum/ (http://ifboat.se/forum/) eller kontakta Olof Johnsson, Den här
  e-postadressen skyddas mot spambots. Du måste tillåta JavaScript för att s
 e den..
DTSTAMP:20260423T075702
DTSTART;TZID=Europe/Stockholm;VALUE=DATE:20260625
DTEND;TZID=Europe/Stockholm;VALUE=DATE:20260629
SEQUENCE:0
TRANSP:OPAQUE
END:VEVENT
END:VCALENDAR