BEGIN:VCALENDAR
VERSION:2.0
PRODID:-//jEvents 2.0 for Joomla//EN
CALSCALE:GREGORIAN
METHOD:PUBLISH
BEGIN:VTIMEZONE
TZID:Europe/Stockholm
BEGIN:STANDARD
DTSTART:20181107T180000
RDATE:20190331T030000
TZOFFSETFROM:+0200
TZOFFSETTO:+0100
TZNAME:Europe/Stockholm CET
END:STANDARD
BEGIN:STANDARD
DTSTART:20191027T020000
RDATE:20200329T030000
TZOFFSETFROM:+0200
TZOFFSETTO:+0100
TZNAME:Europe/Stockholm CET
END:STANDARD
BEGIN:STANDARD
DTSTART:20201025T020000
RDATE:20210328T030000
TZOFFSETFROM:+0200
TZOFFSETTO:+0100
TZNAME:Europe/Stockholm CET
END:STANDARD
BEGIN:STANDARD
DTSTART:20211031T020000
RDATE:20220327T030000
TZOFFSETFROM:+0200
TZOFFSETTO:+0100
TZNAME:Europe/Stockholm CET
END:STANDARD
BEGIN:STANDARD
DTSTART:20221030T020000
RDATE:20230326T030000
TZOFFSETFROM:+0200
TZOFFSETTO:+0100
TZNAME:Europe/Stockholm CET
END:STANDARD
BEGIN:STANDARD
DTSTART:20231029T020000
RDATE:20240331T030000
TZOFFSETFROM:+0200
TZOFFSETTO:+0100
TZNAME:Europe/Stockholm CET
END:STANDARD
BEGIN:STANDARD
DTSTART:20241027T020000
RDATE:20250330T030000
TZOFFSETFROM:+0200
TZOFFSETTO:+0100
TZNAME:Europe/Stockholm CET
END:STANDARD
BEGIN:STANDARD
DTSTART:20251026T020000
RDATE:20260329T030000
TZOFFSETFROM:+0200
TZOFFSETTO:+0100
TZNAME:Europe/Stockholm CET
END:STANDARD
BEGIN:STANDARD
DTSTART:20261025T020000
RDATE:20270328T030000
TZOFFSETFROM:+0200
TZOFFSETTO:+0100
TZNAME:Europe/Stockholm CET
END:STANDARD
BEGIN:STANDARD
DTSTART:20271031T020000
RDATE:20280326T030000
TZOFFSETFROM:+0200
TZOFFSETTO:+0100
TZNAME:Europe/Stockholm CET
END:STANDARD
BEGIN:STANDARD
DTSTART:20281029T020000
RDATE:20290325T030000
TZOFFSETFROM:+0200
TZOFFSETTO:+0100
TZNAME:Europe/Stockholm CET
END:STANDARD
BEGIN:STANDARD
DTSTART:20291028T020000
RDATE:20300331T030000
TZOFFSETFROM:+0200
TZOFFSETTO:+0100
TZNAME:Europe/Stockholm CET
END:STANDARD
BEGIN:STANDARD
DTSTART:20301027T020000
RDATE:20310330T030000
TZOFFSETFROM:+0200
TZOFFSETTO:+0100
TZNAME:Europe/Stockholm CET
END:STANDARD
BEGIN:DAYLIGHT
DTSTART:20190331T030000
RDATE:20191027T020000
TZOFFSETFROM:+0100
TZOFFSETTO:+0200
TZNAME:Europe/Stockholm CEST
END:DAYLIGHT
BEGIN:DAYLIGHT
DTSTART:20200329T030000
RDATE:20201025T020000
TZOFFSETFROM:+0100
TZOFFSETTO:+0200
TZNAME:Europe/Stockholm CEST
END:DAYLIGHT
BEGIN:DAYLIGHT
DTSTART:20210328T030000
RDATE:20211031T020000
TZOFFSETFROM:+0100
TZOFFSETTO:+0200
TZNAME:Europe/Stockholm CEST
END:DAYLIGHT
BEGIN:DAYLIGHT
DTSTART:20220327T030000
RDATE:20221030T020000
TZOFFSETFROM:+0100
TZOFFSETTO:+0200
TZNAME:Europe/Stockholm CEST
END:DAYLIGHT
BEGIN:DAYLIGHT
DTSTART:20230326T030000
RDATE:20231029T020000
TZOFFSETFROM:+0100
TZOFFSETTO:+0200
TZNAME:Europe/Stockholm CEST
END:DAYLIGHT
BEGIN:DAYLIGHT
DTSTART:20240331T030000
RDATE:20241027T020000
TZOFFSETFROM:+0100
TZOFFSETTO:+0200
TZNAME:Europe/Stockholm CEST
END:DAYLIGHT
BEGIN:DAYLIGHT
DTSTART:20250330T030000
RDATE:20251026T020000
TZOFFSETFROM:+0100
TZOFFSETTO:+0200
TZNAME:Europe/Stockholm CEST
END:DAYLIGHT
BEGIN:DAYLIGHT
DTSTART:20260329T030000
RDATE:20261025T020000
TZOFFSETFROM:+0100
TZOFFSETTO:+0200
TZNAME:Europe/Stockholm CEST
END:DAYLIGHT
BEGIN:DAYLIGHT
DTSTART:20270328T030000
RDATE:20271031T020000
TZOFFSETFROM:+0100
TZOFFSETTO:+0200
TZNAME:Europe/Stockholm CEST
END:DAYLIGHT
BEGIN:DAYLIGHT
DTSTART:20280326T030000
RDATE:20281029T020000
TZOFFSETFROM:+0100
TZOFFSETTO:+0200
TZNAME:Europe/Stockholm CEST
END:DAYLIGHT
BEGIN:DAYLIGHT
DTSTART:20290325T030000
RDATE:20291028T020000
TZOFFSETFROM:+0100
TZOFFSETTO:+0200
TZNAME:Europe/Stockholm CEST
END:DAYLIGHT
BEGIN:DAYLIGHT
DTSTART:20300331T030000
RDATE:20301027T020000
TZOFFSETFROM:+0100
TZOFFSETTO:+0200
TZNAME:Europe/Stockholm CEST
END:DAYLIGHT
END:VTIMEZONE
BEGIN:VEVENT
UID:2dad4d1bd2e33c61e444542321f5de7a
CATEGORIES:IF-båtförbundet, VIF
CREATED:20191029T213355
SUMMARY:Skaldjursfrossa
URL;VALUE=URI:https://mail.ifboat.com/kalender/icalrepeat.detail/2019/11/08/86/-/skaldjur
 sfrossa?tmpl=component
DESCRIPTION:Kära VIFare!\n Nu är det dax för höstens stora glada skaldjursbuffé, altern
 ativt grekiska vegetariska frosseri, i Långedrags vackra klubbhus! Sist var
  vi 28 personer. :)  18.00-18.30 Vi inleder med kort seminarium med roliga 
 bilder från årets IF-år och lite tips på hur man både kappseglar framgångsr
 ikt och bor mysigt i samma snabba båt. Göran Ejdeling, Per Hogström och Kar
 in Hårding visar några intressanta Power Point bilder var. (Har du också en
  bild du vill visa så skicka till Karin) 18.40- 21.00 Stor buffé och långbo
 rd. 21.00-23.30 Dans och mingel \nAnmälan till Alf: Den här e-postadressen 
 skyddas mot spambots. Du måste tillåta JavaScript för att se den. senast 5e
  november.Pris 250 kronor. Och om ni önskar vegetariskt grekiskt delikatess
 bord istället för havsdjur så ange det. Varmt välkomna!!!VIfs styrelse PS. 
 För den som har FaceBook så kommer löpande uppdateringar på ’’Segla IF-båt 
 på Västkusten’’  This event was imported from: https://mail.ifboat.com/kale
 nder/icalrepeat.detail/2019/11/08/86/-/skaldjursfrossa?tmpl=component
X-ALT-DESC;FMTTYPE=text/html:<p><b class=""><i class="">Kära VIFare!</i></b></p><div class="">&nbsp;</di
 v><div class="">Nu är det dax för höstens stora glada skaldjursbuffé, alter
 nativt grekiska vegetariska frosseri, i Långedrags vackra klubbhus! Sist va
 r vi 28 personer. :)&nbsp;</div><div class="">&nbsp;</div><div class=""><b 
 class="">18.00-18.30</b>&nbsp;Vi inleder med kort seminarium med roliga bil
 der från årets IF-år och lite tips på hur man både kappseglar framgångsrikt
  och bor mysigt i samma snabba båt. Göran Ejdeling, Per Hogström och Karin 
 Hårding visar några intressanta Power Point bilder var. (Har du också en bi
 ld du vill visa så skicka till Karin)</div><div class="">&nbsp;</div><div c
 lass=""><b class="">18.40- 21.00</b>&nbsp;Stor buffé och långbord.</div><di
 v class="">&nbsp;</div><div class=""><b class="">21.00-23.30&nbsp;</b>Dans 
 och mingel</div><p>&nbsp;</p><div class="">Anmälan till Alf:&nbsp;<joomla-h
 idden-mail class=""  is-link="1" is-email="1" first="YWxmaWFuZGVyc3Nvbg==" 
 last="Z21haWwuY29t" text="YWxmaWFuZGVyc3NvbkBnbWFpbC5jb20=" base="" >Den hä
 r e-postadressen skyddas mot spambots. Du måste tillåta JavaScript för att 
 se den.</joomla-hidden-mail>&nbsp;senast 5e november.</div><div class="">Pr
 is 250 kronor. Och om ni önskar vegetariskt grekiskt delikatessbord iställe
 t för havsdjur så ange det.</div><div class="">&nbsp;</div><div class="">Va
 rmt välkomna!!!</div><div class="">VIfs styrelse</div><div class="">&nbsp;<
 /div><div class="">PS. För den som har FaceBook så kommer löpande uppdateri
 ngar på ’’Segla IF-båt på Västkusten’’&nbsp;</div> <a href="https://mail.if
 boat.com/kalender/icalrepeat.detail/2019/11/08/86/-/skaldjursfrossa?tmpl=co
 mponent">This event was imported from: https://mail.ifboat.com/kalender/ica
 lrepeat.detail/2019/11/08/86/-/skaldjursfrossa?tmpl=component</a>DTSTAMP:20260424T090024
DTSTART;TZID=Europe/Stockholm:20191108T180000
DTEND;TZID=Europe/Stockholm:20191108T233000
SEQUENCE:0
TRANSP:OPAQUE
END:VEVENT
END:VCALENDAR